BEGIN:VCALENDAR
VERSION:2.0
PRODID:-//Saalfelden-Leogang.com//NONSGML kigkonsult.se iCalcreator 2.22.1/
 /DE
METHOD:PUBLISH
X-WR-CALNAME;LANGUAGE=de:Saalfelden-Leogang.com
X-WR-CALDESC;LANGUAGE=de:Saalfelden-Leogang.com
X-WR-TIMEZONE;LANGUAGE=de:Europe/Berlin
BEGIN:VEVENT
UID:20260423T041825CEST-0631Hd6IOc@Saalfelden-Leogang.com
DTSTAMP:20260423T021825Z
DESCRIPTION;LANGUAGE=de:Im Package sind inkludiert:\n\n\n\n\n\n3 Nächte im 
 Zimmer aus Mondholz\n\nBegrüßungsdrink bei der Anreise\n\n3/4 Kulinarik mi
 t Frühstücksbuffet\, gesundem Nachmittagssnack & Abendmenü im Sharing Styl
 e\n\n€ 50 SPA Gutschein pro Person\n\nMountain Life Programm mit täglichen
  Yoga\, Meditations- und Fitness Sessions\n\nSKY SPA mit Rooftop Pool\, Sa
 unen und Relax Areas\n\nNutze die Saalfelden - Leogang  Card inkl. kostenl
 oser Benutzung der Leoganger Bergbahnen.*\n\n\n\nLeihfahrräder & Protektor
 en auf Anfrage direkt im Hotel buchbar\n\n\n\n\n\n\n\nZur Buchung:\n\n\n\n
 https://www.forsthofalm.com/packages/details/forsthofalm-bikecamp-inkl-50-
 spa-gutschein
DTSTART:20260625T002337Z
DTEND:20260625T002337Z
LOCATION;LANGUAGE=de:Holzhotel Forsthofalm\, Hütten 37
SUMMARY;LANGUAGE=de:Forsthofalm Bike Camp Leogang
END:VEVENT
BEGIN:VEVENT
UID:20260423T041825CEST-0633daMUsH@Saalfelden-Leogang.com
DTSTAMP:20260423T021825Z
DESCRIPTION;LANGUAGE=de:Im Package sind inkludiert:\n\n\n\n\n\n3 Nächte im 
 Zimmer aus Mondholz\n\nBegrüßungsdrink bei der Anreise\n\n3/4 Kulinarik mi
 t Frühstücksbuffet\, gesundem Nachmittagssnack & Abendmenü im Sharing Styl
 e\n\n€ 50 SPA Gutschein pro Person\n\nMountain Life Programm mit täglichen
  Yoga\, Meditations- und Fitness Sessions\n\nSKY SPA mit Rooftop Pool\, Sa
 unen und Relax Areas\n\nNutze die Saalfelden - Leogang  Card inkl. kostenl
 oser Benutzung der Leoganger Bergbahnen.*\n\n\n\nLeihfahrräder & Protektor
 en auf Anfrage direkt im Hotel buchbar\n\n\n\n\n\n\n\nZur Buchung:\n\n\n\n
 https://www.forsthofalm.com/packages/details/forsthofalm-bikecamp-inkl-50-
 spa-gutschein
DTSTART:20260626T002337Z
DTEND:20260626T002337Z
LOCATION;LANGUAGE=de:Holzhotel Forsthofalm\, Hütten 37
SUMMARY;LANGUAGE=de:Forsthofalm Bike Camp Leogang
END:VEVENT
BEGIN:VEVENT
UID:20260423T041825CEST-0634KfUN5V@Saalfelden-Leogang.com
DTSTAMP:20260423T021825Z
DESCRIPTION;LANGUAGE=de:Im Package sind inkludiert:\n\n\n\n\n\n3 Nächte im 
 Zimmer aus Mondholz\n\nBegrüßungsdrink bei der Anreise\n\n3/4 Kulinarik mi
 t Frühstücksbuffet\, gesundem Nachmittagssnack & Abendmenü im Sharing Styl
 e\n\n€ 50 SPA Gutschein pro Person\n\nMountain Life Programm mit täglichen
  Yoga\, Meditations- und Fitness Sessions\n\nSKY SPA mit Rooftop Pool\, Sa
 unen und Relax Areas\n\nNutze die Saalfelden - Leogang  Card inkl. kostenl
 oser Benutzung der Leoganger Bergbahnen.*\n\n\n\nLeihfahrräder & Protektor
 en auf Anfrage direkt im Hotel buchbar\n\n\n\n\n\n\n\nZur Buchung:\n\n\n\n
 https://www.forsthofalm.com/packages/details/forsthofalm-bikecamp-inkl-50-
 spa-gutschein
DTSTART:20260627T002337Z
DTEND:20260627T002337Z
LOCATION;LANGUAGE=de:Holzhotel Forsthofalm\, Hütten 37
SUMMARY;LANGUAGE=de:Forsthofalm Bike Camp Leogang
END:VEVENT
BEGIN:VEVENT
UID:20260423T041825CEST-0634IPBi4H@Saalfelden-Leogang.com
DTSTAMP:20260423T021825Z
DESCRIPTION;LANGUAGE=de:Im Package sind inkludiert:\n\n\n\n\n\n3 Nächte im 
 Zimmer aus Mondholz\n\nBegrüßungsdrink bei der Anreise\n\n3/4 Kulinarik mi
 t Frühstücksbuffet\, gesundem Nachmittagssnack & Abendmenü im Sharing Styl
 e\n\n€ 50 SPA Gutschein pro Person\n\nMountain Life Programm mit täglichen
  Yoga\, Meditations- und Fitness Sessions\n\nSKY SPA mit Rooftop Pool\, Sa
 unen und Relax Areas\n\nNutze die Saalfelden - Leogang  Card inkl. kostenl
 oser Benutzung der Leoganger Bergbahnen.*\n\n\n\nLeihfahrräder & Protektor
 en auf Anfrage direkt im Hotel buchbar\n\n\n\n\n\n\n\nZur Buchung:\n\n\n\n
 https://www.forsthofalm.com/packages/details/forsthofalm-bikecamp-inkl-50-
 spa-gutschein
DTSTART:20260628T002337Z
DTEND:20260628T002337Z
LOCATION;LANGUAGE=de:Holzhotel Forsthofalm\, Hütten 37
SUMMARY;LANGUAGE=de:Forsthofalm Bike Camp Leogang
END:VEVENT
BEGIN:VEVENT
UID:20260423T041825CEST-0635JBviwV@Saalfelden-Leogang.com
DTSTAMP:20260423T021825Z
DESCRIPTION;LANGUAGE=de:Im Package sind inkludiert:\n\n\n\n\n\n3 Nächte im 
 Zimmer aus Mondholz\n\nBegrüßungsdrink bei der Anreise\n\n3/4 Kulinarik mi
 t Frühstücksbuffet\, gesundem Nachmittagssnack & Abendmenü im Sharing Styl
 e\n\n€ 50 SPA Gutschein pro Person\n\nMountain Life Programm mit täglichen
  Yoga\, Meditations- und Fitness Sessions\n\nSKY SPA mit Rooftop Pool\, Sa
 unen und Relax Areas\n\nNutze die Saalfelden - Leogang  Card inkl. kostenl
 oser Benutzung der Leoganger Bergbahnen.*\n\n\n\nLeihfahrräder & Protektor
 en auf Anfrage direkt im Hotel buchbar\n\n\n\n\n\n\n\nZur Buchung:\n\n\n\n
 https://www.forsthofalm.com/packages/details/forsthofalm-bikecamp-inkl-50-
 spa-gutschein
DTSTART:20260910T002337Z
DTEND:20260910T002337Z
LOCATION;LANGUAGE=de:Holzhotel Forsthofalm\, Hütten 37
SUMMARY;LANGUAGE=de:Forsthofalm Bike Camp Leogang
END:VEVENT
BEGIN:VEVENT
UID:20260423T041825CEST-0636AVurE6@Saalfelden-Leogang.com
DTSTAMP:20260423T021825Z
DESCRIPTION;LANGUAGE=de:Im Package sind inkludiert:\n\n\n\n\n\n3 Nächte im 
 Zimmer aus Mondholz\n\nBegrüßungsdrink bei der Anreise\n\n3/4 Kulinarik mi
 t Frühstücksbuffet\, gesundem Nachmittagssnack & Abendmenü im Sharing Styl
 e\n\n€ 50 SPA Gutschein pro Person\n\nMountain Life Programm mit täglichen
  Yoga\, Meditations- und Fitness Sessions\n\nSKY SPA mit Rooftop Pool\, Sa
 unen und Relax Areas\n\nNutze die Saalfelden - Leogang  Card inkl. kostenl
 oser Benutzung der Leoganger Bergbahnen.*\n\n\n\nLeihfahrräder & Protektor
 en auf Anfrage direkt im Hotel buchbar\n\n\n\n\n\n\n\nZur Buchung:\n\n\n\n
 https://www.forsthofalm.com/packages/details/forsthofalm-bikecamp-inkl-50-
 spa-gutschein
DTSTART:20260911T002337Z
DTEND:20260911T002337Z
LOCATION;LANGUAGE=de:Holzhotel Forsthofalm\, Hütten 37
SUMMARY;LANGUAGE=de:Forsthofalm Bike Camp Leogang
END:VEVENT
BEGIN:VEVENT
UID:20260423T041825CEST-0637grXDFd@Saalfelden-Leogang.com
DTSTAMP:20260423T021825Z
DESCRIPTION;LANGUAGE=de:Im Package sind inkludiert:\n\n\n\n\n\n3 Nächte im 
 Zimmer aus Mondholz\n\nBegrüßungsdrink bei der Anreise\n\n3/4 Kulinarik mi
 t Frühstücksbuffet\, gesundem Nachmittagssnack & Abendmenü im Sharing Styl
 e\n\n€ 50 SPA Gutschein pro Person\n\nMountain Life Programm mit täglichen
  Yoga\, Meditations- und Fitness Sessions\n\nSKY SPA mit Rooftop Pool\, Sa
 unen und Relax Areas\n\nNutze die Saalfelden - Leogang  Card inkl. kostenl
 oser Benutzung der Leoganger Bergbahnen.*\n\n\n\nLeihfahrräder & Protektor
 en auf Anfrage direkt im Hotel buchbar\n\n\n\n\n\n\n\nZur Buchung:\n\n\n\n
 https://www.forsthofalm.com/packages/details/forsthofalm-bikecamp-inkl-50-
 spa-gutschein
DTSTART:20260912T002337Z
DTEND:20260912T002337Z
LOCATION;LANGUAGE=de:Holzhotel Forsthofalm\, Hütten 37
SUMMARY;LANGUAGE=de:Forsthofalm Bike Camp Leogang
END:VEVENT
BEGIN:VEVENT
UID:20260423T041825CEST-0638Z5IXs9@Saalfelden-Leogang.com
DTSTAMP:20260423T021825Z
DESCRIPTION;LANGUAGE=de:Im Package sind inkludiert:\n\n\n\n\n\n3 Nächte im 
 Zimmer aus Mondholz\n\nBegrüßungsdrink bei der Anreise\n\n3/4 Kulinarik mi
 t Frühstücksbuffet\, gesundem Nachmittagssnack & Abendmenü im Sharing Styl
 e\n\n€ 50 SPA Gutschein pro Person\n\nMountain Life Programm mit täglichen
  Yoga\, Meditations- und Fitness Sessions\n\nSKY SPA mit Rooftop Pool\, Sa
 unen und Relax Areas\n\nNutze die Saalfelden - Leogang  Card inkl. kostenl
 oser Benutzung der Leoganger Bergbahnen.*\n\n\n\nLeihfahrräder & Protektor
 en auf Anfrage direkt im Hotel buchbar\n\n\n\n\n\n\n\nZur Buchung:\n\n\n\n
 https://www.forsthofalm.com/packages/details/forsthofalm-bikecamp-inkl-50-
 spa-gutschein
DTSTART:20260913T002337Z
DTEND:20260913T002337Z
LOCATION;LANGUAGE=de:Holzhotel Forsthofalm\, Hütten 37
SUMMARY;LANGUAGE=de:Forsthofalm Bike Camp Leogang
END:VEVENT
END:VCALENDAR
